{
 "currentVersion": 10.2,
 "serviceDescription": "",
 "mapName": "Layers",
 "description": "",
 "copyrightText": "",
 "supportsDynamicLayers": false,
 "layers": [
  {
   "id": 0,
   "name": "shextent",
   "parentLayerId": -1,
   "defaultVisibility": true,
   "subLayerIds": null,
   "minScale": 0,
   "maxScale": 0
  }
 ],
 "tables": [],
 "spatialReference": {
  "wkid": 4490,
  "latestWkid": 4490
 },
 "singleFusedMapCache": true,
 "tileInfo": {
  "rows": 256,
  "cols": 256,
  "dpi": 96,
  "format": "Mixed",
  "compressionQuality": 75,
  "origin": {
   "x": -180,
   "y": 90
  },
  "spatialReference": {
   "wkid": 4490,
   "latestWkid": 4490
  },
  "lods": [
   {
    "level": 0,
    "resolution": 0.0020225418549557374,
    "scale": 850000
   },
   {
    "level": 1,
    "resolution": 0.001373291015625,
    "scale": 577143.7364428712
   },
   {
    "level": 2,
    "resolution": 6.866455078125E-4,
    "scale": 288571.8682214356
   },
   {
    "level": 3,
    "resolution": 3.4332275390625E-4,
    "scale": 144285.9341107178
   },
   {
    "level": 4,
    "resolution": 1.71661376953125E-4,
    "scale": 72142.9670553589
   },
   {
    "level": 5,
    "resolution": 8.58306884765625E-5,
    "scale": 36071.48352767945
   },
   {
    "level": 6,
    "resolution": 4.291534423828125E-5,
    "scale": 18035.741763839724
   },
   {
    "level": 7,
    "resolution": 2.1457672119140625E-5,
    "scale": 9017.870881919862
   },
   {
    "level": 8,
    "resolution": 1.0728836059570312E-5,
    "scale": 4508.935440959931
   },
   {
    "level": 9,
    "resolution": 5.364418029785156E-6,
    "scale": 2254.4677204799655
   }
  ]
 },
 "initialExtent": {
  "xmin": 119.71738242744493,
  "ymin": 30.99393409003663,
  "xmax": 122.57196217192626,
  "ymax": 32.01537570708818,
  "spatialReference": {
   "cs": "gcs",
   "wkid": 4490
  }
 },
 "fullExtent": {
  "xmin": 120.80012536879065,
  "ymin": 30.54553222673087,
  "xmax": 122.27874755895266,
  "ymax": 31.945383160404504,
  "spatialReference": {
   "cs": "gcs",
   "wkid": 4490
  }
 },
 "minScale": 850000,
 "maxScale": 2254.4677204799655,
 "units": "esriDecimalDegrees",
 "supportedImageFormatTypes": "PNG32,PNG24,PNG,JPG,DIB,TIFF,EMF,PS,PDF,GIF,SVG,SVGZ,BMP",
 "documentInfo": {
  "Title": "",
  "Author": "",
  "Comments": "",
  "Subject": "",
  "Category": "",
  "AntialiasingMode": "None",
  "TextAntialiasingMode": "Force",
  "Keywords": ""
 },
 "capabilities": "Map,Query,Data",
 "supportedQueryFormats": "JSON, AMF",
 "exportTilesAllowed": false,
 "maxRecordCount": 1000,
 "maxImageHeight": 4096,
 "maxImageWidth": 4096,
 "supportedExtensions": "KmlServer"
}
