{
 "currentVersion": 10.2,
 "serviceDescription": "",
 "mapName": "Layers",
 "description": "",
 "copyrightText": "",
 "supportsDynamicLayers": false,
 "layers": [
  {
   "id": 0,
   "name": "SMIMAP.SHEXTENT",
   "parentLayerId": -1,
   "defaultVisibility": true,
   "subLayerIds": null,
   "minScale": 0,
   "maxScale": 0
  }
 ],
 "tables": [],
 "spatialReference": {
  "wkid": 4326,
  "latestWkid": 4326
 },
 "singleFusedMapCache": true,
 "tileInfo": {
  "rows": 256,
  "cols": 256,
  "dpi": 96,
  "format": "PNG24",
  "compressionQuality": 0,
  "origin": {
   "x": -180,
   "y": 90
  },
  "spatialReference": {
   "wkid": 4326,
   "latestWkid": 4326
  },
  "lods": [
   {
    "level": 0,
    "resolution": 0.0013732910156250002,
    "scale": 577143.736442871
   },
   {
    "level": 1,
    "resolution": 6.866455078125012E-4,
    "scale": 288571.868221436
   },
   {
    "level": 2,
    "resolution": 3.433227539062506E-4,
    "scale": 144285.934110718
   },
   {
    "level": 3,
    "resolution": 1.7166137695312505E-4,
    "scale": 72142.9670553589
   },
   {
    "level": 4,
    "resolution": 8.58306884765624E-5,
    "scale": 36071.4835276794
   },
   {
    "level": 5,
    "resolution": 4.29153442382812E-5,
    "scale": 18035.7417638397
   },
   {
    "level": 6,
    "resolution": 2.145767211914063E-5,
    "scale": 9017.87088191986
   },
   {
    "level": 7,
    "resolution": 1.0728836059570314E-5,
    "scale": 4508.93544095993
   },
   {
    "level": 8,
    "resolution": 5.364418029785169E-6,
    "scale": 2254.46772047997
   },
   {
    "level": 9,
    "resolution": 2.682209014892572E-6,
    "scale": 1127.23386023998
   }
  ]
 },
 "initialExtent": {
  "xmin": 120.04095061737453,
  "ymin": 31.117516932566396,
  "xmax": 122.77823741562545,
  "ymax": 31.842228614396745,
  "spatialReference": {
   "cs": "gcs",
   "wkid": 4326
  }
 },
 "fullExtent": {
  "xmin": 120.80012536879065,
  "ymin": 30.54553222673087,
  "xmax": 122.27874755895266,
  "ymax": 31.945383160404504,
  "spatialReference": {
   "cs": "gcs",
   "wkid": 4326
  }
 },
 "minScale": 577143.736442871,
 "maxScale": 1127.23386023998,
 "units": "esriDecimalDegrees",
 "supportedImageFormatTypes": "PNG32,PNG24,PNG,JPG,DIB,TIFF,EMF,PS,PDF,GIF,SVG,SVGZ,BMP",
 "documentInfo": {
  "Title": "SHMAP_D",
  "Author": "Administrator",
  "Comments": "",
  "Subject": "",
  "Category": "",
  "AntialiasingMode": "None",
  "TextAntialiasingMode": "Force",
  "Keywords": ""
 },
 "capabilities": "Map,Query,Data",
 "supportedQueryFormats": "JSON, AMF",
 "exportTilesAllowed": false,
 "maxRecordCount": 1000,
 "maxImageHeight": 4096,
 "maxImageWidth": 4096,
 "supportedExtensions": "KmlServer"
}
