{
 "currentVersion": 10.2,
 "serviceDescription": "",
 "mapName": "Layers",
 "description": "",
 "copyrightText": "",
 "supportsDynamicLayers": false,
 "layers": [
  {
   "id": 0,
   "name": "Extent_sh",
   "parentLayerId": -1,
   "defaultVisibility": true,
   "subLayerIds": null,
   "minScale": 0,
   "maxScale": 0
  }
 ],
 "tables": [],
 "spatialReference": {
  "wkt": "PROJCS[\"shanghaicity\",GEOGCS[\"GCS_Beijing_1954\",DATUM[\"D_Beijing_1954\",SPHEROID[\"Krasovsky_1940\",6378245.0,298.3]],PRIMEM[\"Greenwich\",0.0],UNIT[\"Degree\",0.0174532925199433]],PROJECTION[\"Transverse_Mercator\"],PARAMETER[\"False_Easting\",-3457147.81],PARAMETER[\"False_Northing\",0.0],PARAMETER[\"Central_Meridian\",121.2751921],PARAMETER[\"Scale_Factor\",1.0],PARAMETER[\"Latitude_Of_Origin\",0.0],UNIT[\"Meter\",1.0]]"
 },
 "singleFusedMapCache": true,
 "tileInfo": {
  "rows": 512,
  "cols": 512,
  "dpi": 96,
  "format": "PNG24",
  "compressionQuality": 0,
  "origin": {
   "x": -66000,
   "y": 75000
  },
  "spatialReference": {
   "wkt": "PROJCS[\"shanghaicity\",GEOGCS[\"GCS_Beijing_1954\",DATUM[\"D_Beijing_1954\",SPHEROID[\"Krasovsky_1940\",6378245.0,298.3]],PRIMEM[\"Greenwich\",0.0],UNIT[\"Degree\",0.0174532925199433]],PROJECTION[\"Transverse_Mercator\"],PARAMETER[\"False_Easting\",-3457147.81],PARAMETER[\"False_Northing\",0.0],PARAMETER[\"Central_Meridian\",121.2751921],PARAMETER[\"Scale_Factor\",1.0],PARAMETER[\"Latitude_Of_Origin\",0.0],UNIT[\"Meter\",1.0]]"
  },
  "lods": [
   {
    "level": 0,
    "resolution": 152.87436235289138,
    "scale": 577791.71
   },
   {
    "level": 1,
    "resolution": 76.43717985352637,
    "scale": 288895.85
   },
   {
    "level": 2,
    "resolution": 38.2185912496825,
    "scale": 144447.93
   },
   {
    "level": 3,
    "resolution": 19.10929430192194,
    "scale": 72223.96
   },
   {
    "level": 4,
    "resolution": 9.55464715096097,
    "scale": 36111.98
   },
   {
    "level": 5,
    "resolution": 4.777323575480485,
    "scale": 18055.99
   },
   {
    "level": 6,
    "resolution": 2.3886631106595546,
    "scale": 9028
   },
   {
    "level": 7,
    "resolution": 1.1943315553297773,
    "scale": 4514
   },
   {
    "level": 8,
    "resolution": 0.5971657776648887,
    "scale": 2257
   }
  ]
 },
 "initialExtent": {
  "xmin": -213509.43487499905,
  "ymin": -9247.807625000569,
  "xmax": 215608.99617499928,
  "ymax": 104363.64882499899,
  "spatialReference": {
   "cs": "pcs",
   "wkt": "PROJCS[\"shanghaicity\",GEOGCS[\"GCS_Beijing_1954\",DATUM[\"D_Beijing_1954\",SPHEROID[\"Krasovsky_1940\",6378245.0,298.3]],PRIMEM[\"Greenwich\",0.0],UNIT[\"Degree\",0.0174532925199433]],PROJECTION[\"Transverse_Mercator\"],PARAMETER[\"False_Easting\",-3457147.81],PARAMETER[\"False_Northing\",0.0],PARAMETER[\"Central_Meridian\",121.2751921],PARAMETER[\"Scale_Factor\",1.0],PARAMETER[\"Latitude_Of_Origin\",0.0],UNIT[\"Meter\",1.0]]"
  }
 },
 "fullExtent": {
  "xmin": -101042.11170000024,
  "ymin": -94275.49000000022,
  "xmax": 103141.67300000042,
  "ymax": 79398.07399999909,
  "spatialReference": {
   "cs": "pcs",
   "wkt": "PROJCS[\"shanghaicity\",GEOGCS[\"GCS_Beijing_1954\",DATUM[\"D_Beijing_1954\",SPHEROID[\"Krasovsky_1940\",6378245.0,298.3]],PRIMEM[\"Greenwich\",0.0],UNIT[\"Degree\",0.0174532925199433]],PROJECTION[\"Transverse_Mercator\"],PARAMETER[\"False_Easting\",-3457147.81],PARAMETER[\"False_Northing\",0.0],PARAMETER[\"Central_Meridian\",121.2751921],PARAMETER[\"Scale_Factor\",1.0],PARAMETER[\"Latitude_Of_Origin\",0.0],UNIT[\"Meter\",1.0]]"
  }
 },
 "minScale": 577791.71,
 "maxScale": 2257,
 "units": "esriMeters",
 "supportedImageFormatTypes": "PNG32,PNG24,PNG,JPG,DIB,TIFF,EMF,PS,PDF,GIF,SVG,SVGZ,BMP",
 "documentInfo": {
  "Title": "SHMAP_D",
  "Author": "Administrator",
  "Comments": "",
  "Subject": "",
  "Category": "",
  "AntialiasingMode": "None",
  "TextAntialiasingMode": "Force",
  "Keywords": ""
 },
 "capabilities": "Map,Query,Data",
 "supportedQueryFormats": "JSON, AMF",
 "exportTilesAllowed": false,
 "maxRecordCount": 1000,
 "maxImageHeight": 4096,
 "maxImageWidth": 4096,
 "supportedExtensions": "KmlServer"
}
