View In:
ArcGIS JavaScript
ArcGIS.com Map
Google Earth
ArcMap
ArcGIS Explorer
View Footprint In:
ArcGIS.com Map
Service Description:
Map Name: Layers
Legend
All Layers and Tables
Layers:
Description:
Copyright Text:
Spatial Reference:
4490
(4490)
Single Fused Map Cache: true
Tile Info:
- Height: 256
- Width: 256
- DPI: 96
-
Levels of Detail: 10
-
Level ID: 1
[ Start Tile, End Tile ]
- Resolution: 0.001373291015625
- Scale: 577143.7364428712
-
Level ID: 2
[ Start Tile, End Tile ]
- Resolution: 6.866455078125E-4
- Scale: 288571.8682214356
-
Level ID: 3
[ Start Tile, End Tile ]
- Resolution: 3.4332275390625E-4
- Scale: 144285.9341107178
-
Level ID: 4
[ Start Tile, End Tile ]
- Resolution: 1.71661376953125E-4
- Scale: 72142.9670553589
-
Level ID: 5
[ Start Tile, End Tile ]
- Resolution: 8.58306884765625E-5
- Scale: 36071.48352767945
-
Level ID: 6
[ Start Tile, End Tile ]
- Resolution: 4.291534423828125E-5
- Scale: 18035.741763839724
-
Level ID: 7
[ Start Tile, End Tile ]
- Resolution: 2.1457672119140625E-5
- Scale: 9017.870881919862
-
Level ID: 8
[ Start Tile, End Tile ]
- Resolution: 1.0728836059570312E-5
- Scale: 4508.935440959931
-
Level ID: 9
[ Start Tile, End Tile ]
- Resolution: 5.364418029785156E-6
- Scale: 2254.4677204799655
- Format: Mixed
- Compression Quality: 75.0
- Origin: X: -180.0
Y: 90.0
- Spatial Reference: 4490
(4490)
Initial Extent:
XMin: 119.12698301863307
YMin: 30.788627076958676
XMax: 122.99057332240378
YMax: 32.171118470004465
Spatial Reference: 4490
Full Extent:
XMin: 120.80012536879065
YMin: 30.54553222673087
XMax: 122.27874755895266
YMax: 31.945383160404504
Spatial Reference: 4490
Units: esriDecimalDegrees
Supported Image Format Types: PNG32,PNG24,PNG,JPG,DIB,TIFF,EMF,PS,PDF,GIF,SVG,SVGZ,BMP
Document Info:
Title: SHMAP_D
Author: Administrator
Comments:
Subject:
Category:
Keywords:
AntialiasingMode: None
TextAntialiasingMode: Force
Supports Dynamic Layers: false
MaxRecordCount: 1000
MaxImageHeight: 4096
MaxImageWidth: 4096
Supported Query Formats: JSON, AMF
Min Scale: 850000
Max Scale: 2254.4677204799655
Child Resources:
Info
Supported Operations:
Export Map
Identify
Find
Return Updates
Generate KML