View In:
ArcGIS JavaScript
ArcGIS.com Map
Google Earth
ArcMap
ArcGIS Explorer
View Footprint In:
ArcGIS.com Map
Service Description:
Map Name: Layers
Legend
All Layers and Tables
Layers:
Description:
Copyright Text:
Spatial Reference:
4326
(4326)
Single Fused Map Cache: true
Tile Info:
- Height: 256
- Width: 256
- DPI: 96
-
Levels of Detail: 10
-
Level ID: 0
[ Start Tile, End Tile ]
- Resolution: 0.0013732910156250002
- Scale: 577143.736442871
-
Level ID: 1
[ Start Tile, End Tile ]
- Resolution: 6.866455078125012E-4
- Scale: 288571.868221436
-
Level ID: 2
[ Start Tile, End Tile ]
- Resolution: 3.433227539062506E-4
- Scale: 144285.934110718
-
Level ID: 3
[ Start Tile, End Tile ]
- Resolution: 1.7166137695312505E-4
- Scale: 72142.9670553589
-
Level ID: 4
[ Start Tile, End Tile ]
- Resolution: 8.58306884765624E-5
- Scale: 36071.4835276794
-
Level ID: 5
[ Start Tile, End Tile ]
- Resolution: 4.29153442382812E-5
- Scale: 18035.7417638397
-
Level ID: 6
[ Start Tile, End Tile ]
- Resolution: 2.145767211914063E-5
- Scale: 9017.87088191986
-
Level ID: 7
[ Start Tile, End Tile ]
- Resolution: 1.0728836059570314E-5
- Scale: 4508.93544095993
-
Level ID: 8
[ Start Tile, End Tile ]
- Resolution: 5.364418029785169E-6
- Scale: 2254.46772047997
-
Level ID: 9
[ Start Tile, End Tile ]
- Resolution: 2.682209014892572E-6
- Scale: 1127.23386023998
- Format: PNG24
- Compression Quality: 0.0
- Origin: X: -180.0
Y: 90.0
- Spatial Reference: 4326
(4326)
Initial Extent:
XMin: 120.04095061737453
YMin: 31.117516932566396
XMax: 122.77823741562545
YMax: 31.842228614396745
Spatial Reference: 4326
Full Extent:
XMin: 120.80012536879065
YMin: 30.54553222673087
XMax: 122.27874755895266
YMax: 31.945383160404504
Spatial Reference: 4326
Units: esriDecimalDegrees
Supported Image Format Types: PNG32,PNG24,PNG,JPG,DIB,TIFF,EMF,PS,PDF,GIF,SVG,SVGZ,BMP
Document Info:
Title: SHMAP_D
Author: Administrator
Comments:
Subject:
Category:
Keywords:
AntialiasingMode: None
TextAntialiasingMode: Force
Supports Dynamic Layers: false
MaxRecordCount: 1000
MaxImageHeight: 4096
MaxImageWidth: 4096
Supported Query Formats: JSON, AMF
Min Scale: 577143.736442871
Max Scale: 1127.23386023998
Child Resources:
Info
Supported Operations:
Export Map
Identify
Find
Return Updates
Generate KML